BEGIN:VCALENDAR
VERSION:2.0
PRODID:-//Supporters Club - ECPv4.9.12//NONSGML v1.0//EN
CALSCALE:GREGORIAN
METHOD:PUBLISH
X-WR-CALNAME:Supporters Club
X-ORIGINAL-URL:https://www.palmbeachsurfclub.com.au/supporters
X-WR-CALDESC:Events for Supporters Club
BEGIN:VTIMEZONE
TZID:Australia/Brisbane
BEGIN:STANDARD
TZOFFSETFROM:+1000
TZOFFSETTO:+1000
TZNAME:AEST
DTSTART:20210101T000000
END:STANDARD
END:VTIMEZONE
BEGIN:VEVENT
DTSTART;TZID=Australia/Brisbane:20210301T170000
DTEND;TZID=Australia/Brisbane:20210301T210000
DTSTAMP:20210228T073507
CREATED:20210217T051618Z
LAST-MODIFIED:20210217T051618Z
UID:4869-1614618000-1614632400@www.palmbeachsurfclub.com.au
SUMMARY:Kids Eat Free
DESCRIPTION:Bring the kids every Monday night for a delicious free meal! One FREE kids meal with every full paying adult meal. \nNot valid with any other offer or discount or public holidays. Members only. \nConditions apply. \n
URL:https://www.palmbeachsurfclub.com.au/supporters/event/kids-eat-free-45/2021-03-01/
LOCATION:Palm Beach Surf Club\, Cnr 7th Ave & Jefferson Lane\, Palm Beach\, Queensland\, 4221\, Australia
ATTACH;FMTTYPE=image/jpeg:https://www.palmbeachsurfclub.com.au/supporters/wp-content/uploads/sites/2/2020/06/PBSLSC-213_sqaure-scaled.jpg
GEO:-28.118461;153.472182
X-APPLE-STRUCTURED-LOCATION;VALUE=URI;X-ADDRESS=Palm Beach Surf Club Cnr 7th Ave & Jefferson Lane Palm Beach Queensland 4221 Australia;X-APPLE-RADIUS=500;X-TITLE=Cnr 7th Ave & Jefferson Lane:geo:153.472182,-28.118461
END:VEVENT
BEGIN:VEVENT
DTSTART;TZID=Australia/Brisbane:20210302T170000
DTEND;TZID=Australia/Brisbane:20210302T210000
DTSTAMP:20210228T073507
CREATED:20201215T031042Z
LAST-MODIFIED:20201222T065248Z
UID:4421-1614704400-1614718800@www.palmbeachsurfclub.com.au
SUMMARY:Schnitzel Night
DESCRIPTION:Tuesday night is Schnitzel Night! Upgrade to our famous Palmy Parmigiana for only $2 \nA chicken schnitzel served with chips\, salad and your choice of sauces for only $16.00*. \n*Members pricing. Conditions apply.  \n
URL:https://www.palmbeachsurfclub.com.au/supporters/event/schnitzel-night-37-2021-02-02/2021-03-02/
LOCATION:Queensland
ATTACH;FMTTYPE=image/jpeg:https://www.palmbeachsurfclub.com.au/supporters/wp-content/uploads/sites/2/2020/12/PBSLSC_III-65_square-scaled.jpg
END:VEVENT
BEGIN:VEVENT
DTSTART;TZID=Australia/Brisbane:20210303T170000
DTEND;TZID=Australia/Brisbane:20210303T203000
DTSTAMP:20210228T073507
CREATED:20201215T030520Z
LAST-MODIFIED:20201222T065112Z
UID:4377-1614790800-1614803400@www.palmbeachsurfclub.com.au
SUMMARY:Steak Night
DESCRIPTION:Wrap your mouth around a 200gm steak served with chips\, fresh garden salad and your choice of sauce for only $18.00! \nMembers only. Not valid with any other discount of special offer. Conditions apply. \n
URL:https://www.palmbeachsurfclub.com.au/supporters/event/steak-night-30-2021-02-03/2021-03-03/
LOCATION:Palm Beach Surf Club\, Cnr 7th Ave & Jefferson Lane\, Palm Beach\, Queensland\, 4221\, Australia
ATTACH;FMTTYPE=image/jpeg:https://www.palmbeachsurfclub.com.au/supporters/wp-content/uploads/sites/2/2020/12/PBSLSC_III-54_steak-scaled.jpg
GEO:-28.118461;153.472182
X-APPLE-STRUCTURED-LOCATION;VALUE=URI;X-ADDRESS=Palm Beach Surf Club Cnr 7th Ave & Jefferson Lane Palm Beach Queensland 4221 Australia;X-APPLE-RADIUS=500;X-TITLE=Cnr 7th Ave & Jefferson Lane:geo:153.472182,-28.118461
END:VEVENT
BEGIN:VEVENT
DTSTART;TZID=Australia/Brisbane:20210304T160000
DTEND;TZID=Australia/Brisbane:20210304T170000
DTSTAMP:20210228T073507
CREATED:20210217T034801Z
LAST-MODIFIED:20210217T034801Z
UID:4774-1614873600-1614877200@www.palmbeachsurfclub.com.au
SUMMARY:TurtleWatch Talks
DESCRIPTION:Join Watergum Community on March the 3rd for a TurtleTalk to celebrate Turtle Month as part of our commitment to ocean sustainability and marine education.\n\nYou will find us on the deck where you can sit down and relax with drinks and food whilst learning about our local turtles.\n\nPlease register HERE for COVID-19 compliance and to receive event details. Please cancel if you are not able to join us so we can give your spot to someone else.\n\nThis program is a collaboration between SeaWorld and Watergum Community Inc. There will kids ocean activity booklets available to keep the little ones entertained!\n
URL:https://www.palmbeachsurfclub.com.au/supporters/event/turtlewatch-talks/
LOCATION:Palm Beach Surf Club\, Cnr 7th Ave & Jefferson Lane\, Palm Beach\, Queensland\, 4221\, Australia
ATTACH;FMTTYPE=image/png:https://www.palmbeachsurfclub.com.au/supporters/wp-content/uploads/sites/2/2021/02/TurtleWatch-Talk-square.png
GEO:-28.118461;153.472182
X-APPLE-STRUCTURED-LOCATION;VALUE=URI;X-ADDRESS=Palm Beach Surf Club Cnr 7th Ave & Jefferson Lane Palm Beach Queensland 4221 Australia;X-APPLE-RADIUS=500;X-TITLE=Cnr 7th Ave & Jefferson Lane:geo:153.472182,-28.118461
END:VEVENT
BEGIN:VEVENT
DTSTART;TZID=Australia/Brisbane:20210304T170000
DTEND;TZID=Australia/Brisbane:20210304T210000
DTSTAMP:20210228T073507
CREATED:20210217T032458Z
LAST-MODIFIED:20210217T032528Z
UID:4693-1614877200-1614891600@www.palmbeachsurfclub.com.au
SUMMARY:Oysters Delight Night
DESCRIPTION:Every Thursday night delight yourself in natural oysters for only $2 or Kilpatrick for $3 each. \nThis is a members only special with a min order of 3 oysters per order. \n
URL:https://www.palmbeachsurfclub.com.au/supporters/event/oysters-gold-coast-special/2021-03-04/
LOCATION:Palm Beach Surf Club\, Cnr 7th Ave & Jefferson Lane\, Palm Beach\, Queensland\, 4221\, Australia
ATTACH;FMTTYPE=image/jpeg:https://www.palmbeachsurfclub.com.au/supporters/wp-content/uploads/sites/2/2021/02/PBSLC-Seafood-LR-87.jpg
GEO:-28.118461;153.472182
X-APPLE-STRUCTURED-LOCATION;VALUE=URI;X-ADDRESS=Palm Beach Surf Club Cnr 7th Ave & Jefferson Lane Palm Beach Queensland 4221 Australia;X-APPLE-RADIUS=500;X-TITLE=Cnr 7th Ave & Jefferson Lane:geo:153.472182,-28.118461
END:VEVENT
BEGIN:VEVENT
DTSTART;TZID=Australia/Brisbane:20210306T140000
DTEND;TZID=Australia/Brisbane:20210306T170000
DTSTAMP:20210228T073507
CREATED:20210217T053745Z
LAST-MODIFIED:20210217T053745Z
UID:4919-1615039200-1615050000@www.palmbeachsurfclub.com.au
SUMMARY:Live Music
DESCRIPTION:Come and chill out to live and local sounds and good vibes at Palmy Surf Club. Every Saturday and Sunday 2pm – 5pm. \n
URL:https://www.palmbeachsurfclub.com.au/supporters/event/live-music-2/2021-03-06/
LOCATION:Queensland
ATTACH;FMTTYPE=image/jpeg:https://www.palmbeachsurfclub.com.au/supporters/wp-content/uploads/sites/2/2021/02/guitar-square.jpg
END:VEVENT
BEGIN:VEVENT
DTSTART;TZID=Australia/Brisbane:20210307T140000
DTEND;TZID=Australia/Brisbane:20210307T170000
DTSTAMP:20210228T073507
CREATED:20210217T053745Z
LAST-MODIFIED:20210217T053745Z
UID:4920-1615125600-1615136400@www.palmbeachsurfclub.com.au
SUMMARY:Live Music
DESCRIPTION:Come and chill out to live and local sounds and good vibes at Palmy Surf Club. Every Saturday and Sunday 2pm – 5pm. \n
URL:https://www.palmbeachsurfclub.com.au/supporters/event/live-music-2/2021-03-07/
LOCATION:Queensland
ATTACH;FMTTYPE=image/jpeg:https://www.palmbeachsurfclub.com.au/supporters/wp-content/uploads/sites/2/2021/02/guitar-square.jpg
END:VEVENT
BEGIN:VEVENT
DTSTART;TZID=Australia/Brisbane:20210308T170000
DTEND;TZID=Australia/Brisbane:20210308T210000
DTSTAMP:20210228T073507
CREATED:20210217T051618Z
LAST-MODIFIED:20210217T051618Z
UID:4870-1615222800-1615237200@www.palmbeachsurfclub.com.au
SUMMARY:Kids Eat Free
DESCRIPTION:Bring the kids every Monday night for a delicious free meal! One FREE kids meal with every full paying adult meal. \nNot valid with any other offer or discount or public holidays. Members only. \nConditions apply. \n
URL:https://www.palmbeachsurfclub.com.au/supporters/event/kids-eat-free-45/2021-03-08/
LOCATION:Palm Beach Surf Club\, Cnr 7th Ave & Jefferson Lane\, Palm Beach\, Queensland\, 4221\, Australia
ATTACH;FMTTYPE=image/jpeg:https://www.palmbeachsurfclub.com.au/supporters/wp-content/uploads/sites/2/2020/06/PBSLSC-213_sqaure-scaled.jpg
GEO:-28.118461;153.472182
X-APPLE-STRUCTURED-LOCATION;VALUE=URI;X-ADDRESS=Palm Beach Surf Club Cnr 7th Ave & Jefferson Lane Palm Beach Queensland 4221 Australia;X-APPLE-RADIUS=500;X-TITLE=Cnr 7th Ave & Jefferson Lane:geo:153.472182,-28.118461
END:VEVENT
BEGIN:VEVENT
DTSTART;TZID=Australia/Brisbane:20210309T170000
DTEND;TZID=Australia/Brisbane:20210309T210000
DTSTAMP:20210228T073507
CREATED:20201215T031042Z
LAST-MODIFIED:20201222T065248Z
UID:4422-1615309200-1615323600@www.palmbeachsurfclub.com.au
SUMMARY:Schnitzel Night
DESCRIPTION:Tuesday night is Schnitzel Night! Upgrade to our famous Palmy Parmigiana for only $2 \nA chicken schnitzel served with chips\, salad and your choice of sauces for only $16.00*. \n*Members pricing. Conditions apply.  \n
URL:https://www.palmbeachsurfclub.com.au/supporters/event/schnitzel-night-37-2021-02-02/2021-03-09/
LOCATION:Queensland
ATTACH;FMTTYPE=image/jpeg:https://www.palmbeachsurfclub.com.au/supporters/wp-content/uploads/sites/2/2020/12/PBSLSC_III-65_square-scaled.jpg
END:VEVENT
BEGIN:VEVENT
DTSTART;TZID=Australia/Brisbane:20210310T170000
DTEND;TZID=Australia/Brisbane:20210310T203000
DTSTAMP:20210228T073507
CREATED:20201215T030520Z
LAST-MODIFIED:20201222T065112Z
UID:4378-1615395600-1615408200@www.palmbeachsurfclub.com.au
SUMMARY:Steak Night
DESCRIPTION:Wrap your mouth around a 200gm steak served with chips\, fresh garden salad and your choice of sauce for only $18.00! \nMembers only. Not valid with any other discount of special offer. Conditions apply. \n
URL:https://www.palmbeachsurfclub.com.au/supporters/event/steak-night-30-2021-02-03/2021-03-10/
LOCATION:Palm Beach Surf Club\, Cnr 7th Ave & Jefferson Lane\, Palm Beach\, Queensland\, 4221\, Australia
ATTACH;FMTTYPE=image/jpeg:https://www.palmbeachsurfclub.com.au/supporters/wp-content/uploads/sites/2/2020/12/PBSLSC_III-54_steak-scaled.jpg
GEO:-28.118461;153.472182
X-APPLE-STRUCTURED-LOCATION;VALUE=URI;X-ADDRESS=Palm Beach Surf Club Cnr 7th Ave & Jefferson Lane Palm Beach Queensland 4221 Australia;X-APPLE-RADIUS=500;X-TITLE=Cnr 7th Ave & Jefferson Lane:geo:153.472182,-28.118461
END:VEVENT
BEGIN:VEVENT
DTSTART;TZID=Australia/Brisbane:20210311T170000
DTEND;TZID=Australia/Brisbane:20210311T210000
DTSTAMP:20210228T073507
CREATED:20210217T032458Z
LAST-MODIFIED:20210217T032529Z
UID:4694-1615482000-1615496400@www.palmbeachsurfclub.com.au
SUMMARY:Oysters Delight Night
DESCRIPTION:Every Thursday night delight yourself in natural oysters for only $2 or Kilpatrick for $3 each. \nThis is a members only special with a min order of 3 oysters per order. \n
URL:https://www.palmbeachsurfclub.com.au/supporters/event/oysters-gold-coast-special/2021-03-11/
LOCATION:Palm Beach Surf Club\, Cnr 7th Ave & Jefferson Lane\, Palm Beach\, Queensland\, 4221\, Australia
ATTACH;FMTTYPE=image/jpeg:https://www.palmbeachsurfclub.com.au/supporters/wp-content/uploads/sites/2/2021/02/PBSLC-Seafood-LR-87.jpg
GEO:-28.118461;153.472182
X-APPLE-STRUCTURED-LOCATION;VALUE=URI;X-ADDRESS=Palm Beach Surf Club Cnr 7th Ave & Jefferson Lane Palm Beach Queensland 4221 Australia;X-APPLE-RADIUS=500;X-TITLE=Cnr 7th Ave & Jefferson Lane:geo:153.472182,-28.118461
END:VEVENT
BEGIN:VEVENT
DTSTART;TZID=Australia/Brisbane:20210313T140000
DTEND;TZID=Australia/Brisbane:20210313T170000
DTSTAMP:20210228T073507
CREATED:20210217T053745Z
LAST-MODIFIED:20210217T053745Z
UID:4921-1615644000-1615654800@www.palmbeachsurfclub.com.au
SUMMARY:Live Music
DESCRIPTION:Come and chill out to live and local sounds and good vibes at Palmy Surf Club. Every Saturday and Sunday 2pm – 5pm. \n
URL:https://www.palmbeachsurfclub.com.au/supporters/event/live-music-2/2021-03-13/
LOCATION:Queensland
ATTACH;FMTTYPE=image/jpeg:https://www.palmbeachsurfclub.com.au/supporters/wp-content/uploads/sites/2/2021/02/guitar-square.jpg
END:VEVENT
BEGIN:VEVENT
DTSTART;TZID=Australia/Brisbane:20210314T140000
DTEND;TZID=Australia/Brisbane:20210314T170000
DTSTAMP:20210228T073507
CREATED:20210217T053745Z
LAST-MODIFIED:20210217T053745Z
UID:4922-1615730400-1615741200@www.palmbeachsurfclub.com.au
SUMMARY:Live Music
DESCRIPTION:Come and chill out to live and local sounds and good vibes at Palmy Surf Club. Every Saturday and Sunday 2pm – 5pm. \n
URL:https://www.palmbeachsurfclub.com.au/supporters/event/live-music-2/2021-03-14/
LOCATION:Queensland
ATTACH;FMTTYPE=image/jpeg:https://www.palmbeachsurfclub.com.au/supporters/wp-content/uploads/sites/2/2021/02/guitar-square.jpg
END:VEVENT
BEGIN:VEVENT
DTSTART;TZID=Australia/Brisbane:20210315T170000
DTEND;TZID=Australia/Brisbane:20210315T210000
DTSTAMP:20210228T073507
CREATED:20210217T051618Z
LAST-MODIFIED:20210217T051618Z
UID:4871-1615827600-1615842000@www.palmbeachsurfclub.com.au
SUMMARY:Kids Eat Free
DESCRIPTION:Bring the kids every Monday night for a delicious free meal! One FREE kids meal with every full paying adult meal. \nNot valid with any other offer or discount or public holidays. Members only. \nConditions apply. \n
URL:https://www.palmbeachsurfclub.com.au/supporters/event/kids-eat-free-45/2021-03-15/
LOCATION:Palm Beach Surf Club\, Cnr 7th Ave & Jefferson Lane\, Palm Beach\, Queensland\, 4221\, Australia
ATTACH;FMTTYPE=image/jpeg:https://www.palmbeachsurfclub.com.au/supporters/wp-content/uploads/sites/2/2020/06/PBSLSC-213_sqaure-scaled.jpg
GEO:-28.118461;153.472182
X-APPLE-STRUCTURED-LOCATION;VALUE=URI;X-ADDRESS=Palm Beach Surf Club Cnr 7th Ave & Jefferson Lane Palm Beach Queensland 4221 Australia;X-APPLE-RADIUS=500;X-TITLE=Cnr 7th Ave & Jefferson Lane:geo:153.472182,-28.118461
END:VEVENT
BEGIN:VEVENT
DTSTART;TZID=Australia/Brisbane:20210316T170000
DTEND;TZID=Australia/Brisbane:20210316T210000
DTSTAMP:20210228T073507
CREATED:20201215T031042Z
LAST-MODIFIED:20201222T065248Z
UID:4423-1615914000-1615928400@www.palmbeachsurfclub.com.au
SUMMARY:Schnitzel Night
DESCRIPTION:Tuesday night is Schnitzel Night! Upgrade to our famous Palmy Parmigiana for only $2 \nA chicken schnitzel served with chips\, salad and your choice of sauces for only $16.00*. \n*Members pricing. Conditions apply.  \n
URL:https://www.palmbeachsurfclub.com.au/supporters/event/schnitzel-night-37-2021-02-02/2021-03-16/
LOCATION:Queensland
ATTACH;FMTTYPE=image/jpeg:https://www.palmbeachsurfclub.com.au/supporters/wp-content/uploads/sites/2/2020/12/PBSLSC_III-65_square-scaled.jpg
END:VEVENT
BEGIN:VEVENT
DTSTART;TZID=Australia/Brisbane:20210317T170000
DTEND;TZID=Australia/Brisbane:20210317T203000
DTSTAMP:20210228T073507
CREATED:20201215T030520Z
LAST-MODIFIED:20201222T065113Z
UID:4379-1616000400-1616013000@www.palmbeachsurfclub.com.au
SUMMARY:Steak Night
DESCRIPTION:Wrap your mouth around a 200gm steak served with chips\, fresh garden salad and your choice of sauce for only $18.00! \nMembers only. Not valid with any other discount of special offer. Conditions apply. \n
URL:https://www.palmbeachsurfclub.com.au/supporters/event/steak-night-30-2021-02-03/2021-03-17/
LOCATION:Palm Beach Surf Club\, Cnr 7th Ave & Jefferson Lane\, Palm Beach\, Queensland\, 4221\, Australia
ATTACH;FMTTYPE=image/jpeg:https://www.palmbeachsurfclub.com.au/supporters/wp-content/uploads/sites/2/2020/12/PBSLSC_III-54_steak-scaled.jpg
GEO:-28.118461;153.472182
X-APPLE-STRUCTURED-LOCATION;VALUE=URI;X-ADDRESS=Palm Beach Surf Club Cnr 7th Ave & Jefferson Lane Palm Beach Queensland 4221 Australia;X-APPLE-RADIUS=500;X-TITLE=Cnr 7th Ave & Jefferson Lane:geo:153.472182,-28.118461
END:VEVENT
BEGIN:VEVENT
DTSTART;TZID=Australia/Brisbane:20210318T170000
DTEND;TZID=Australia/Brisbane:20210318T210000
DTSTAMP:20210228T073507
CREATED:20210217T032458Z
LAST-MODIFIED:20210217T032529Z
UID:4695-1616086800-1616101200@www.palmbeachsurfclub.com.au
SUMMARY:Oysters Delight Night
DESCRIPTION:Every Thursday night delight yourself in natural oysters for only $2 or Kilpatrick for $3 each. \nThis is a members only special with a min order of 3 oysters per order. \n
URL:https://www.palmbeachsurfclub.com.au/supporters/event/oysters-gold-coast-special/2021-03-18/
LOCATION:Palm Beach Surf Club\, Cnr 7th Ave & Jefferson Lane\, Palm Beach\, Queensland\, 4221\, Australia
ATTACH;FMTTYPE=image/jpeg:https://www.palmbeachsurfclub.com.au/supporters/wp-content/uploads/sites/2/2021/02/PBSLC-Seafood-LR-87.jpg
GEO:-28.118461;153.472182
X-APPLE-STRUCTURED-LOCATION;VALUE=URI;X-ADDRESS=Palm Beach Surf Club Cnr 7th Ave & Jefferson Lane Palm Beach Queensland 4221 Australia;X-APPLE-RADIUS=500;X-TITLE=Cnr 7th Ave & Jefferson Lane:geo:153.472182,-28.118461
END:VEVENT
BEGIN:VEVENT
DTSTART;TZID=Australia/Brisbane:20210320T140000
DTEND;TZID=Australia/Brisbane:20210320T170000
DTSTAMP:20210228T073507
CREATED:20210217T053745Z
LAST-MODIFIED:20210217T053745Z
UID:4923-1616248800-1616259600@www.palmbeachsurfclub.com.au
SUMMARY:Live Music
DESCRIPTION:Come and chill out to live and local sounds and good vibes at Palmy Surf Club. Every Saturday and Sunday 2pm – 5pm. \n
URL:https://www.palmbeachsurfclub.com.au/supporters/event/live-music-2/2021-03-20/
LOCATION:Queensland
ATTACH;FMTTYPE=image/jpeg:https://www.palmbeachsurfclub.com.au/supporters/wp-content/uploads/sites/2/2021/02/guitar-square.jpg
END:VEVENT
BEGIN:VEVENT
DTSTART;TZID=Australia/Brisbane:20210321T140000
DTEND;TZID=Australia/Brisbane:20210321T170000
DTSTAMP:20210228T073507
CREATED:20210217T053745Z
LAST-MODIFIED:20210217T053745Z
UID:4924-1616335200-1616346000@www.palmbeachsurfclub.com.au
SUMMARY:Live Music
DESCRIPTION:Come and chill out to live and local sounds and good vibes at Palmy Surf Club. Every Saturday and Sunday 2pm – 5pm. \n
URL:https://www.palmbeachsurfclub.com.au/supporters/event/live-music-2/2021-03-21/
LOCATION:Queensland
ATTACH;FMTTYPE=image/jpeg:https://www.palmbeachsurfclub.com.au/supporters/wp-content/uploads/sites/2/2021/02/guitar-square.jpg
END:VEVENT
BEGIN:VEVENT
DTSTART;TZID=Australia/Brisbane:20210322T170000
DTEND;TZID=Australia/Brisbane:20210322T210000
DTSTAMP:20210228T073507
CREATED:20210217T051618Z
LAST-MODIFIED:20210217T051618Z
UID:4872-1616432400-1616446800@www.palmbeachsurfclub.com.au
SUMMARY:Kids Eat Free
DESCRIPTION:Bring the kids every Monday night for a delicious free meal! One FREE kids meal with every full paying adult meal. \nNot valid with any other offer or discount or public holidays. Members only. \nConditions apply. \n
URL:https://www.palmbeachsurfclub.com.au/supporters/event/kids-eat-free-45/2021-03-22/
LOCATION:Palm Beach Surf Club\, Cnr 7th Ave & Jefferson Lane\, Palm Beach\, Queensland\, 4221\, Australia
ATTACH;FMTTYPE=image/jpeg:https://www.palmbeachsurfclub.com.au/supporters/wp-content/uploads/sites/2/2020/06/PBSLSC-213_sqaure-scaled.jpg
GEO:-28.118461;153.472182
X-APPLE-STRUCTURED-LOCATION;VALUE=URI;X-ADDRESS=Palm Beach Surf Club Cnr 7th Ave & Jefferson Lane Palm Beach Queensland 4221 Australia;X-APPLE-RADIUS=500;X-TITLE=Cnr 7th Ave & Jefferson Lane:geo:153.472182,-28.118461
END:VEVENT
BEGIN:VEVENT
DTSTART;TZID=Australia/Brisbane:20210323T170000
DTEND;TZID=Australia/Brisbane:20210323T210000
DTSTAMP:20210228T073507
CREATED:20201215T031042Z
LAST-MODIFIED:20201222T065249Z
UID:4424-1616518800-1616533200@www.palmbeachsurfclub.com.au
SUMMARY:Schnitzel Night
DESCRIPTION:Tuesday night is Schnitzel Night! Upgrade to our famous Palmy Parmigiana for only $2 \nA chicken schnitzel served with chips\, salad and your choice of sauces for only $16.00*. \n*Members pricing. Conditions apply.  \n
URL:https://www.palmbeachsurfclub.com.au/supporters/event/schnitzel-night-37-2021-02-02/2021-03-23/
LOCATION:Queensland
ATTACH;FMTTYPE=image/jpeg:https://www.palmbeachsurfclub.com.au/supporters/wp-content/uploads/sites/2/2020/12/PBSLSC_III-65_square-scaled.jpg
END:VEVENT
BEGIN:VEVENT
DTSTART;TZID=Australia/Brisbane:20210324T170000
DTEND;TZID=Australia/Brisbane:20210324T203000
DTSTAMP:20210228T073507
CREATED:20201215T030520Z
LAST-MODIFIED:20201222T065113Z
UID:4380-1616605200-1616617800@www.palmbeachsurfclub.com.au
SUMMARY:Steak Night
DESCRIPTION:Wrap your mouth around a 200gm steak served with chips\, fresh garden salad and your choice of sauce for only $18.00! \nMembers only. Not valid with any other discount of special offer. Conditions apply. \n
URL:https://www.palmbeachsurfclub.com.au/supporters/event/steak-night-30-2021-02-03/2021-03-24/
LOCATION:Palm Beach Surf Club\, Cnr 7th Ave & Jefferson Lane\, Palm Beach\, Queensland\, 4221\, Australia
ATTACH;FMTTYPE=image/jpeg:https://www.palmbeachsurfclub.com.au/supporters/wp-content/uploads/sites/2/2020/12/PBSLSC_III-54_steak-scaled.jpg
GEO:-28.118461;153.472182
X-APPLE-STRUCTURED-LOCATION;VALUE=URI;X-ADDRESS=Palm Beach Surf Club Cnr 7th Ave & Jefferson Lane Palm Beach Queensland 4221 Australia;X-APPLE-RADIUS=500;X-TITLE=Cnr 7th Ave & Jefferson Lane:geo:153.472182,-28.118461
END:VEVENT
BEGIN:VEVENT
DTSTART;TZID=Australia/Brisbane:20210325T170000
DTEND;TZID=Australia/Brisbane:20210325T210000
DTSTAMP:20210228T073507
CREATED:20210217T032458Z
LAST-MODIFIED:20210217T032529Z
UID:4696-1616691600-1616706000@www.palmbeachsurfclub.com.au
SUMMARY:Oysters Delight Night
DESCRIPTION:Every Thursday night delight yourself in natural oysters for only $2 or Kilpatrick for $3 each. \nThis is a members only special with a min order of 3 oysters per order. \n
URL:https://www.palmbeachsurfclub.com.au/supporters/event/oysters-gold-coast-special/2021-03-25/
LOCATION:Palm Beach Surf Club\, Cnr 7th Ave & Jefferson Lane\, Palm Beach\, Queensland\, 4221\, Australia
ATTACH;FMTTYPE=image/jpeg:https://www.palmbeachsurfclub.com.au/supporters/wp-content/uploads/sites/2/2021/02/PBSLC-Seafood-LR-87.jpg
GEO:-28.118461;153.472182
X-APPLE-STRUCTURED-LOCATION;VALUE=URI;X-ADDRESS=Palm Beach Surf Club Cnr 7th Ave & Jefferson Lane Palm Beach Queensland 4221 Australia;X-APPLE-RADIUS=500;X-TITLE=Cnr 7th Ave & Jefferson Lane:geo:153.472182,-28.118461
END:VEVENT
BEGIN:VEVENT
DTSTART;TZID=Australia/Brisbane:20210327T140000
DTEND;TZID=Australia/Brisbane:20210327T170000
DTSTAMP:20210228T073507
CREATED:20210217T053745Z
LAST-MODIFIED:20210217T053745Z
UID:4925-1616853600-1616864400@www.palmbeachsurfclub.com.au
SUMMARY:Live Music
DESCRIPTION:Come and chill out to live and local sounds and good vibes at Palmy Surf Club. Every Saturday and Sunday 2pm – 5pm. \n
URL:https://www.palmbeachsurfclub.com.au/supporters/event/live-music-2/2021-03-27/
LOCATION:Queensland
ATTACH;FMTTYPE=image/jpeg:https://www.palmbeachsurfclub.com.au/supporters/wp-content/uploads/sites/2/2021/02/guitar-square.jpg
END:VEVENT
BEGIN:VEVENT
DTSTART;TZID=Australia/Brisbane:20210328T140000
DTEND;TZID=Australia/Brisbane:20210328T170000
DTSTAMP:20210228T073507
CREATED:20210217T053745Z
LAST-MODIFIED:20210217T053745Z
UID:4926-1616940000-1616950800@www.palmbeachsurfclub.com.au
SUMMARY:Live Music
DESCRIPTION:Come and chill out to live and local sounds and good vibes at Palmy Surf Club. Every Saturday and Sunday 2pm – 5pm. \n
URL:https://www.palmbeachsurfclub.com.au/supporters/event/live-music-2/2021-03-28/
LOCATION:Queensland
ATTACH;FMTTYPE=image/jpeg:https://www.palmbeachsurfclub.com.au/supporters/wp-content/uploads/sites/2/2021/02/guitar-square.jpg
END:VEVENT
BEGIN:VEVENT
DTSTART;TZID=Australia/Brisbane:20210329T170000
DTEND;TZID=Australia/Brisbane:20210329T210000
DTSTAMP:20210228T073507
CREATED:20210217T051618Z
LAST-MODIFIED:20210217T051618Z
UID:4873-1617037200-1617051600@www.palmbeachsurfclub.com.au
SUMMARY:Kids Eat Free
DESCRIPTION:Bring the kids every Monday night for a delicious free meal! One FREE kids meal with every full paying adult meal. \nNot valid with any other offer or discount or public holidays. Members only. \nConditions apply. \n
URL:https://www.palmbeachsurfclub.com.au/supporters/event/kids-eat-free-45/2021-03-29/
LOCATION:Palm Beach Surf Club\, Cnr 7th Ave & Jefferson Lane\, Palm Beach\, Queensland\, 4221\, Australia
ATTACH;FMTTYPE=image/jpeg:https://www.palmbeachsurfclub.com.au/supporters/wp-content/uploads/sites/2/2020/06/PBSLSC-213_sqaure-scaled.jpg
GEO:-28.118461;153.472182
X-APPLE-STRUCTURED-LOCATION;VALUE=URI;X-ADDRESS=Palm Beach Surf Club Cnr 7th Ave & Jefferson Lane Palm Beach Queensland 4221 Australia;X-APPLE-RADIUS=500;X-TITLE=Cnr 7th Ave & Jefferson Lane:geo:153.472182,-28.118461
END:VEVENT
BEGIN:VEVENT
DTSTART;TZID=Australia/Brisbane:20210330T170000
DTEND;TZID=Australia/Brisbane:20210330T210000
DTSTAMP:20210228T073507
CREATED:20201215T031042Z
LAST-MODIFIED:20201222T065249Z
UID:4425-1617123600-1617138000@www.palmbeachsurfclub.com.au
SUMMARY:Schnitzel Night
DESCRIPTION:Tuesday night is Schnitzel Night! Upgrade to our famous Palmy Parmigiana for only $2 \nA chicken schnitzel served with chips\, salad and your choice of sauces for only $16.00*. \n*Members pricing. Conditions apply.  \n
URL:https://www.palmbeachsurfclub.com.au/supporters/event/schnitzel-night-37-2021-02-02/2021-03-30/
LOCATION:Queensland
ATTACH;FMTTYPE=image/jpeg:https://www.palmbeachsurfclub.com.au/supporters/wp-content/uploads/sites/2/2020/12/PBSLSC_III-65_square-scaled.jpg
END:VEVENT
BEGIN:VEVENT
DTSTART;TZID=Australia/Brisbane:20210331T170000
DTEND;TZID=Australia/Brisbane:20210331T203000
DTSTAMP:20210228T073507
CREATED:20201215T030520Z
LAST-MODIFIED:20201222T065113Z
UID:4381-1617210000-1617222600@www.palmbeachsurfclub.com.au
SUMMARY:Steak Night
DESCRIPTION:Wrap your mouth around a 200gm steak served with chips\, fresh garden salad and your choice of sauce for only $18.00! \nMembers only. Not valid with any other discount of special offer. Conditions apply. \n
URL:https://www.palmbeachsurfclub.com.au/supporters/event/steak-night-30-2021-02-03/2021-03-31/
LOCATION:Palm Beach Surf Club\, Cnr 7th Ave & Jefferson Lane\, Palm Beach\, Queensland\, 4221\, Australia
ATTACH;FMTTYPE=image/jpeg:https://www.palmbeachsurfclub.com.au/supporters/wp-content/uploads/sites/2/2020/12/PBSLSC_III-54_steak-scaled.jpg
GEO:-28.118461;153.472182
X-APPLE-STRUCTURED-LOCATION;VALUE=URI;X-ADDRESS=Palm Beach Surf Club Cnr 7th Ave & Jefferson Lane Palm Beach Queensland 4221 Australia;X-APPLE-RADIUS=500;X-TITLE=Cnr 7th Ave & Jefferson Lane:geo:153.472182,-28.118461
END:VEVENT
BEGIN:VEVENT
DTSTART;TZID=Australia/Brisbane:20210401T170000
DTEND;TZID=Australia/Brisbane:20210401T210000
DTSTAMP:20210228T073507
CREATED:20210217T032458Z
LAST-MODIFIED:20210217T032530Z
UID:4697-1617296400-1617310800@www.palmbeachsurfclub.com.au
SUMMARY:Oysters Delight Night
DESCRIPTION:Every Thursday night delight yourself in natural oysters for only $2 or Kilpatrick for $3 each. \nThis is a members only special with a min order of 3 oysters per order. \n
URL:https://www.palmbeachsurfclub.com.au/supporters/event/oysters-gold-coast-special/2021-04-01/
LOCATION:Palm Beach Surf Club\, Cnr 7th Ave & Jefferson Lane\, Palm Beach\, Queensland\, 4221\, Australia
ATTACH;FMTTYPE=image/jpeg:https://www.palmbeachsurfclub.com.au/supporters/wp-content/uploads/sites/2/2021/02/PBSLC-Seafood-LR-87.jpg
GEO:-28.118461;153.472182
X-APPLE-STRUCTURED-LOCATION;VALUE=URI;X-ADDRESS=Palm Beach Surf Club Cnr 7th Ave & Jefferson Lane Palm Beach Queensland 4221 Australia;X-APPLE-RADIUS=500;X-TITLE=Cnr 7th Ave & Jefferson Lane:geo:153.472182,-28.118461
END:VEVENT
BEGIN:VEVENT
DTSTART;TZID=Australia/Brisbane:20210403T140000
DTEND;TZID=Australia/Brisbane:20210403T170000
DTSTAMP:20210228T073507
CREATED:20210217T053745Z
LAST-MODIFIED:20210217T053745Z
UID:4927-1617458400-1617469200@www.palmbeachsurfclub.com.au
SUMMARY:Live Music
DESCRIPTION:Come and chill out to live and local sounds and good vibes at Palmy Surf Club. Every Saturday and Sunday 2pm – 5pm. \n
URL:https://www.palmbeachsurfclub.com.au/supporters/event/live-music-2/2021-04-03/
LOCATION:Queensland
ATTACH;FMTTYPE=image/jpeg:https://www.palmbeachsurfclub.com.au/supporters/wp-content/uploads/sites/2/2021/02/guitar-square.jpg
END:VEVENT
END:VCALENDAR